BEGIN:VCALENDAR
VERSION:2.0
PRODID:-//Registro Fiat Italiano - ECPv6.15.17.1//NONSGML v1.0//EN
CALSCALE:GREGORIAN
METHOD:PUBLISH
X-WR-CALNAME:Registro Fiat Italiano
X-ORIGINAL-URL:https://www.registrofiat.it
X-WR-CALDESC:Eventi per Registro Fiat Italiano
REFRESH-INTERVAL;VALUE=DURATION:PT1H
X-Robots-Tag:noindex
X-PUBLISHED-TTL:PT1H
BEGIN:VTIMEZONE
TZID:Europe/Rome
BEGIN:DAYLIGHT
TZOFFSETFROM:+0100
TZOFFSETTO:+0200
TZNAME:CEST
DTSTART:20210328T010000
END:DAYLIGHT
BEGIN:STANDARD
TZOFFSETFROM:+0200
TZOFFSETTO:+0100
TZNAME:CET
DTSTART:20211031T010000
END:STANDARD
BEGIN:DAYLIGHT
TZOFFSETFROM:+0100
TZOFFSETTO:+0200
TZNAME:CEST
DTSTART:20220327T010000
END:DAYLIGHT
BEGIN:STANDARD
TZOFFSETFROM:+0200
TZOFFSETTO:+0100
TZNAME:CET
DTSTART:20221030T010000
END:STANDARD
BEGIN:DAYLIGHT
TZOFFSETFROM:+0100
TZOFFSETTO:+0200
TZNAME:CEST
DTSTART:20230326T010000
END:DAYLIGHT
BEGIN:STANDARD
TZOFFSETFROM:+0200
TZOFFSETTO:+0100
TZNAME:CET
DTSTART:20231029T010000
END:STANDARD
END:VTIMEZONE
BEGIN:VEVENT
DTSTART;VALUE=DATE:20220729
DTEND;VALUE=DATE:20220803
DTSTAMP:20260423T163104
CREATED:20220729T102143Z
LAST-MODIFIED:20240103T112847Z
UID:59528-1659052800-1659484799@www.registrofiat.it
SUMMARY:269esima Montebaldina a Caprino Veronese
DESCRIPTION:Ritorna la prestigiosa Fiera Montebaldina che trova salde le sue radici nel territorio\, nella tradizione\, nei prodotti e nei sapori tipici del Baldo. \nLa Fiera Montebaldina di Caprino Veronese\, giunta alla 269^ Edizione si svolgerà dal 28 Luglio al 1 Agosto 2022. \nAll’interno della fiera\, Registro Fiat Italiano con la collaborazione e il patrocinio del Comune di Caprino Veronese organizza per domenica 31 luglio 2022 il 4° raduno di auto storiche italiane. \nIl Programma
URL:https://www.registrofiat.it/event/269esima-montebaldina-a-caprino-veronese/
LOCATION:Fiera Montebaldina\, Caprino Veronese (VR)
CATEGORIES:Mostre
ATTACH;FMTTYPE=image/png:https://www.registrofiat.it/wp-content/uploads/2022/07/Fiera-Montebaldina.png
END:VEVENT
BEGIN:VEVENT
DTSTART;VALUE=DATE:20220731
DTEND;VALUE=DATE:20220801
DTSTAMP:20260423T163104
CREATED:20220731T104216Z
LAST-MODIFIED:20240103T114822Z
UID:59540-1659225600-1659311999@www.registrofiat.it
SUMMARY:4° raduno di auto storiche italiane alla 269^ Fiera Montebaldina
DESCRIPTION:Domenica 31 luglio 2022 – Caprino Veronese (VR)\nMostra campionaria\, degustazione di prodotti tipici del territorio\, intrattenimenti culturali e animazioni\, caccia fotografica nei borghi del Garda \nEsposizione di auto storiche italiane del Registro Fiat Italiano con la collaborazione e il patrocinio del Comune di Caprino Veronese \nPROGRAMMA\nore 10.00 ritrovo dei soci del Trentino a Rovereto (TN)\, presso Nerocubo Hotel – A22 Rovereto sud e partenza per Caprino Veronese (VR)\nore 11.00 ritrovo dei partecipanti presso il ristorante LA GROLETTA di via Groletta n. 1 a Rivoli Veronese (VR)\, iscrizione e consegna documenti di partecipazione. \nAPERIPRANZO \nore 14.00 partenza giro turistico nei borghi del Garda con “caccia fotografica” (i dettagli saranno illustrati in occasione dell’iscrizione all’evento) \nore 16.30 ritrovo e riordino delle auto presso il Park Hotel JOLANDA\, a S. Zeno di\nMontagna (VR)\, \nAPERIMERENDA \nore 17.30 partenza per Caprino Veronese (VR) con arrivo in Piazza Sandro Pertini\, per l’esposizione statica dei veicoli storici e riconsegna documenti \nore 18.30 ritrovo in piazza Stringa per la CENA a cura della ristorazione della Fiera Montebaldina \nore 21.00 premiazioni con le autorità locali presso il parco del palazzo comunale L’evento è riservato ai soci in regola con la quota 2022\, per n. 30 auto costruite fino al 2001 (l’organizzazione si riserva la facoltà di scegliere i veicoli per modello e anno di costruzione\, con priorità a quelli più vintage e/o di particolare interesse storico)\, con n. 2 persone a bordo compreso il conducente. La quota\, di € 30\,00 a persona\, sarà corrisposta al momento dell’iscrizione. \n\nLe domande di partecipazione dovranno pervenire entro venerdì 22 luglio 2022\, al seguente indirizzo email (zendri.ettore@alice.it)\, oppure telefonando agli organizzatori sotto indicati e consegnandole (a mano)\, il giorno dell’evento. \nZendri Ettore 347 6805031 zendri.ettore@alice.it\nRiva Antonio 348 6914065 antonio.ariva@gmail.com
URL:https://www.registrofiat.it/event/4-raduno-di-auto-storiche-italiane-alla-269-fiera-montebaldina/
LOCATION:Fiera Montebaldina\, Caprino Veronese (VR)
CATEGORIES:Raduni
ATTACH;FMTTYPE=image/jpeg:https://www.registrofiat.it/wp-content/uploads/2022/07/locandina-2022_page-0001-1030x543-1.jpg
END:VEVENT
END:VCALENDAR