BEGIN:VCALENDAR
VERSION:2.0
PRODID:-//Registro Fiat Italiano - ECPv6.15.17.1//NONSGML v1.0//EN
CALSCALE:GREGORIAN
METHOD:PUBLISH
X-ORIGINAL-URL:https://www.registrofiat.it
X-WR-CALDESC:Eventi per Registro Fiat Italiano
REFRESH-INTERVAL;VALUE=DURATION:PT1H
X-Robots-Tag:noindex
X-PUBLISHED-TTL:PT1H
BEGIN:VTIMEZONE
TZID:Europe/Rome
BEGIN:DAYLIGHT
TZOFFSETFROM:+0100
TZOFFSETTO:+0200
TZNAME:CEST
DTSTART:20220327T010000
END:DAYLIGHT
BEGIN:STANDARD
TZOFFSETFROM:+0200
TZOFFSETTO:+0100
TZNAME:CET
DTSTART:20221030T010000
END:STANDARD
BEGIN:DAYLIGHT
TZOFFSETFROM:+0100
TZOFFSETTO:+0200
TZNAME:CEST
DTSTART:20230326T010000
END:DAYLIGHT
BEGIN:STANDARD
TZOFFSETFROM:+0200
TZOFFSETTO:+0100
TZNAME:CET
DTSTART:20231029T010000
END:STANDARD
BEGIN:DAYLIGHT
TZOFFSETFROM:+0100
TZOFFSETTO:+0200
TZNAME:CEST
DTSTART:20240331T010000
END:DAYLIGHT
BEGIN:STANDARD
TZOFFSETFROM:+0200
TZOFFSETTO:+0100
TZNAME:CET
DTSTART:20241027T010000
END:STANDARD
END:VTIMEZONE
BEGIN:VEVENT
DTSTART;VALUE=DATE:20230529
DTEND;VALUE=DATE:20230611
DTSTAMP:20260423T030715
CREATED:20230530T084630Z
LAST-MODIFIED:20230605T122215Z
UID:58605-1685318400-1686441599@www.registrofiat.it
SUMMARY:Al mare in Sardegna
DESCRIPTION:Grande Raduno Fiat VACANZE IN SARDEGNA – Genova – Porto Torres- Villasimius\n\nRaduno riservato a vetture costruite prima del 2000. Non saranno accettate iscrizioni senza il versamento della quota. Inviare le prenotazioni in Segreteria\, accompagnate dall’importo d’iscrizione e dalla scheda di pre-iscrizione all’indirizzo email: info@registrofiat.it\n\nDa mercoledì 31 maggio a giovedì 8 giugno soggiorno vacanza con gite locali da definire.\n\nCosto del raduno\, dopo il consueto e sostanziale apporto del RFI   € 2.900/- per equipaggio di 2 persone e  € 1.800/  per il singolo. Eventuali bambini o terze persone regoleranno in loco in accordo con la Direzione del Cormoran e con la motonave per il viaggio. La quota comprende :\n\n 	A.R. su traghetto con cabina.\n 	Pensione completa al Hotel Cormoran (Tel 070/79340) con utilizzo delle strutture sia di spiaggia che di svago.\n 	Le quote dovranno essere versate all’atto della prenotazione (entro il 05/05).\n\n \nPROGRAMMA\nLunedì 29 Maggio\n\n 	Ore 14.00 – Ritrovo e punzonatura dei veicoli sul molo del porto di Genova. Imbarco.\n\nMartedì 30 Maggio\n\n 	Ore 07.00 – Sbarco a Porto Torres\n 	Ore 09.00 – Partenza per ristorante\n 	Ore 12.30 – Arrivo e pranzo\n 	Ore 15.00 – Partenza per Villasimius\n 	Ore 16.30 – Arrivo all’ Hotel\n 	Ore 19.30 – Aperitivo di benvenuto a seguire cena\n\nVenerdì 9 Giugno\n\n 	Ore 09.00 – Prima colazione e partenza per Porto Torres\n 	Ore 16.00 – Ritrovo per imbarco\n\n 
URL:https://www.registrofiat.it/event/al-mare-in-sardegna/
LOCATION:Meta Vacanza in Sardegna\, Località Campus\, Via del Porto\, 37\, Villasimius\, SU\, 09049\, Italia
CATEGORIES:Raduni
ATTACH;FMTTYPE=image/jpeg:https://www.registrofiat.it/wp-content/uploads/2023/05/hotel-cormoran-villasimius-sardegna-territorio-panoramica-costa-2.jpg
ORGANIZER;CN="Segreteria Registro Italiano FIAT":MAILTO:info@registrofiat.it
END:VEVENT
END:VCALENDAR