BEGIN:VCALENDAR
VERSION:2.0
PRODID:-//Registro Fiat Italiano - ECPv6.15.17.1//NONSGML v1.0//EN
CALSCALE:GREGORIAN
METHOD:PUBLISH
X-WR-CALNAME:Registro Fiat Italiano
X-ORIGINAL-URL:https://www.registrofiat.it
X-WR-CALDESC:Eventi per Registro Fiat Italiano
REFRESH-INTERVAL;VALUE=DURATION:PT1H
X-Robots-Tag:noindex
X-PUBLISHED-TTL:PT1H
BEGIN:VTIMEZONE
TZID:Europe/Rome
BEGIN:DAYLIGHT
TZOFFSETFROM:+0100
TZOFFSETTO:+0200
TZNAME:CEST
DTSTART:20190331T010000
END:DAYLIGHT
BEGIN:STANDARD
TZOFFSETFROM:+0200
TZOFFSETTO:+0100
TZNAME:CET
DTSTART:20191027T010000
END:STANDARD
BEGIN:DAYLIGHT
TZOFFSETFROM:+0100
TZOFFSETTO:+0200
TZNAME:CEST
DTSTART:20200329T010000
END:DAYLIGHT
BEGIN:STANDARD
TZOFFSETFROM:+0200
TZOFFSETTO:+0100
TZNAME:CET
DTSTART:20201025T010000
END:STANDARD
BEGIN:DAYLIGHT
TZOFFSETFROM:+0100
TZOFFSETTO:+0200
TZNAME:CEST
DTSTART:20210328T010000
END:DAYLIGHT
BEGIN:STANDARD
TZOFFSETFROM:+0200
TZOFFSETTO:+0100
TZNAME:CET
DTSTART:20211031T010000
END:STANDARD
END:VTIMEZONE
BEGIN:VEVENT
DTSTART;VALUE=DATE:20200913
DTEND;VALUE=DATE:20200914
DTSTAMP:20260424T232533
CREATED:20200913T084059Z
LAST-MODIFIED:20240103T094233Z
UID:59499-1599955200-1600041599@www.registrofiat.it
SUMMARY:17° Italian Classic Parade - Bardolino Lago di Garda 13 settembre 2020
DESCRIPTION:  \n  \nDOMENICA 13 SETTEMBRE 2020\nBARDOLINO – Lago di Garda “17° Italian Classic Parade” \nL’orgoglio di possedere un’auto italiana \nIncontro spontaneo per possessori di vetture italiane costruite entro il 31/12/2000. Saranno inoltre ammesse le Barchette\, le Coupè\, le versioni Sporting ed Abarth di tutti i modelli\, nonché tutte le altre vetture italiane di particolare interesse tecnico sportivo iscritti ed appartenenti a club\, a giudizio degli organizzatori. \nE’ un incontro nello spirito dei raduni dei vecchi tempi\, finalizzato al solo semplice piacere dello stare insieme.\nLa formula proposta è infatti quella della esposizione. Non sono previsti moduli di iscrizione o altre formalità. La partecipazione\, assolutamente spontanea\, è libera e gratuita.\nSarete liberi di arrivare ed andarvene quando vorrete. \nDalle 9.30\, potremo trovarci sul lungolago di Bardolino\, per salutarci\, chiacchierare con vecchi e nuovi amici\, esporre e confrontare le vetture che hanno fatto e continuano a fare la storia del motore e del costume italiano nel rispetto delle normative vigenti di sicurezza pubblica.\nL’accesso al lungo lago va effettuato da via Mirabello a fianco della stazione di servizio ENI.\nVi preghiamo di seguire attentamente le indicazioni del personale di servizio per il posizionamento delle vostre vetture. \nL’organizzazione è sollevata da ogni responsabilità per il non rispetto del codice della strada da parte dei partecipanti ed è fatto loro obbligo di mantenere una idonea distanza di sicurezza e l’utilizzo di appositi dispositivi a copertura di naso e bocca ed in ogni caso di attenersi alle disposizioni emanate dalla Regione Veneto.\nPranzo libero nei locali della zona \nPer ogni informazione rivolgersi a:\nRegistro Fiat Italiano cell. 335.7478268\nBenaco Auto Classiche cell. 335.6351869\nAssociazione Marinai Bardolino cell. 347.3328378 \n  \nGrazie a tutti per la partecipazione numerosa all’evento. Ci vediamo il prossimo anno! \n 
URL:https://www.registrofiat.it/event/17-italian-classic-parade-bardolino-lago-di-garda-13-settembre-2020/
LOCATION:Italian Classic Parade\, Bardolino (VR)\, Verona\, Italy
CATEGORIES:Raduni
ATTACH;FMTTYPE=image/jpeg:https://www.registrofiat.it/wp-content/uploads/2024/01/17°-Italian-Classic-Parade-Bardolino-Lago-di-Garda-13-settembre-2020.jpg
END:VEVENT
END:VCALENDAR