BEGIN:VCALENDAR
VERSION:2.0
PRODID:-//Registro Fiat Italiano - ECPv6.15.17.1//NONSGML v1.0//EN
CALSCALE:GREGORIAN
METHOD:PUBLISH
X-WR-CALNAME:Registro Fiat Italiano
X-ORIGINAL-URL:https://www.registrofiat.it
X-WR-CALDESC:Eventi per Registro Fiat Italiano
REFRESH-INTERVAL;VALUE=DURATION:PT1H
X-Robots-Tag:noindex
X-PUBLISHED-TTL:PT1H
BEGIN:VTIMEZONE
TZID:Europe/Rome
BEGIN:DAYLIGHT
TZOFFSETFROM:+0100
TZOFFSETTO:+0200
TZNAME:CEST
DTSTART:20190331T010000
END:DAYLIGHT
BEGIN:STANDARD
TZOFFSETFROM:+0200
TZOFFSETTO:+0100
TZNAME:CET
DTSTART:20191027T010000
END:STANDARD
BEGIN:DAYLIGHT
TZOFFSETFROM:+0100
TZOFFSETTO:+0200
TZNAME:CEST
DTSTART:20200329T010000
END:DAYLIGHT
BEGIN:STANDARD
TZOFFSETFROM:+0200
TZOFFSETTO:+0100
TZNAME:CET
DTSTART:20201025T010000
END:STANDARD
BEGIN:DAYLIGHT
TZOFFSETFROM:+0100
TZOFFSETTO:+0200
TZNAME:CEST
DTSTART:20210328T010000
END:DAYLIGHT
BEGIN:STANDARD
TZOFFSETFROM:+0200
TZOFFSETTO:+0100
TZNAME:CET
DTSTART:20211031T010000
END:STANDARD
END:VTIMEZONE
BEGIN:VEVENT
DTSTART;VALUE=DATE:20200822
DTEND;VALUE=DATE:20200824
DTSTAMP:20260425T004114
CREATED:20200822T122319Z
LAST-MODIFIED:20240103T132416Z
UID:59556-1598054400-1598227199@www.registrofiat.it
SUMMARY:5° tour Dolomiti di Brenta 22-23 agosto 2020 [evento annullato]
DESCRIPTION:Attenzione evento annullato.\n\nRiferimenti Segreteria:\nTel. 011-5629881\nMail info@registrofiat.it
URL:https://www.registrofiat.it/event/5-tour-dolomiti-di-brenta-22-23-agosto-2020-evento-annullato/
CATEGORIES:Raduni
END:VEVENT
END:VCALENDAR