BEGIN:VCALENDAR
VERSION:2.0
PRODID:-//Registro Fiat Italiano - ECPv6.15.17.1//NONSGML v1.0//EN
CALSCALE:GREGORIAN
METHOD:PUBLISH
X-WR-CALNAME:Registro Fiat Italiano
X-ORIGINAL-URL:https://www.registrofiat.it
X-WR-CALDESC:Eventi per Registro Fiat Italiano
REFRESH-INTERVAL;VALUE=DURATION:PT1H
X-Robots-Tag:noindex
X-PUBLISHED-TTL:PT1H
BEGIN:VTIMEZONE
TZID:Europe/Rome
BEGIN:DAYLIGHT
TZOFFSETFROM:+0100
TZOFFSETTO:+0200
TZNAME:CEST
DTSTART:20180325T010000
END:DAYLIGHT
BEGIN:STANDARD
TZOFFSETFROM:+0200
TZOFFSETTO:+0100
TZNAME:CET
DTSTART:20181028T010000
END:STANDARD
BEGIN:DAYLIGHT
TZOFFSETFROM:+0100
TZOFFSETTO:+0200
TZNAME:CEST
DTSTART:20190331T010000
END:DAYLIGHT
BEGIN:STANDARD
TZOFFSETFROM:+0200
TZOFFSETTO:+0100
TZNAME:CET
DTSTART:20191027T010000
END:STANDARD
BEGIN:DAYLIGHT
TZOFFSETFROM:+0100
TZOFFSETTO:+0200
TZNAME:CEST
DTSTART:20200329T010000
END:DAYLIGHT
BEGIN:STANDARD
TZOFFSETFROM:+0200
TZOFFSETTO:+0100
TZNAME:CET
DTSTART:20201025T010000
END:STANDARD
END:VTIMEZONE
BEGIN:VEVENT
DTSTART;VALUE=DATE:20191024
DTEND;VALUE=DATE:20191028
DTSTAMP:20260425T134908
CREATED:20240103T155051Z
LAST-MODIFIED:20240103T155214Z
UID:59599-1571875200-1572220799@www.registrofiat.it
SUMMARY:Auto Moto d’Epoca Salone Internazionale di Padova 2019
DESCRIPTION:DAK Mantova presente all’edizione Auto e Moto d’Epoca Padova 24 – 27 Ottobre 2019. \nAuto e Moto d’Epoca Padova è il più grande mercato di auto e ricambi d’epoca d’Europa\, e rappresenta da anni l’appuntamento internazionale più importante per gli appassionati di motori e della più vasta cultura legata all’automotive.\nAd Auto e Moto d’Epoca collezionisti e appassionati possono scegliere tra le oltre 4.000 auto delle principali case automobilistiche messe in vendita\, e trovare pezzi di ricambio originali e automobili a di ogni prezzo e marchio.\nInoltre\, ad Auto e Moto d’Epoca vivono la storia e la cultura dei motori: all’interno del Salone ci si immerge nel passato e si tocca con mano il presente e il futuro del mondo dell’auto.
URL:https://www.registrofiat.it/event/auto-moto-depoca-salone-internazionale-di-padova-2019/
CATEGORIES:Mostre
ATTACH;FMTTYPE=image/jpeg:https://www.registrofiat.it/wp-content/uploads/2024/01/fiera-padova-auto-moto-epoca-2019.jpg
END:VEVENT
END:VCALENDAR